BEGIN:VCALENDAR
VERSION:2.0
PRODID:-//Une ressourcerie maraîchine - ECPv6.15.20//NONSGML v1.0//EN
CALSCALE:GREGORIAN
METHOD:PUBLISH
X-ORIGINAL-URL:https://lamaraitrie.fr
X-WR-CALDESC:Évènements pour Une ressourcerie maraîchine
REFRESH-INTERVAL;VALUE=DURATION:PT1H
X-Robots-Tag:noindex
X-PUBLISHED-TTL:PT1H
BEGIN:VTIMEZONE
TZID:Europe/Zurich
BEGIN:DAYLIGHT
TZOFFSETFROM:+0100
TZOFFSETTO:+0200
TZNAME:CEST
DTSTART:20250330T010000
END:DAYLIGHT
BEGIN:STANDARD
TZOFFSETFROM:+0200
TZOFFSETTO:+0100
TZNAME:CET
DTSTART:20251026T010000
END:STANDARD
BEGIN:DAYLIGHT
TZOFFSETFROM:+0100
TZOFFSETTO:+0200
TZNAME:CEST
DTSTART:20260329T010000
END:DAYLIGHT
BEGIN:STANDARD
TZOFFSETFROM:+0200
TZOFFSETTO:+0100
TZNAME:CET
DTSTART:20261025T010000
END:STANDARD
BEGIN:DAYLIGHT
TZOFFSETFROM:+0100
TZOFFSETTO:+0200
TZNAME:CEST
DTSTART:20270328T010000
END:DAYLIGHT
BEGIN:STANDARD
TZOFFSETFROM:+0200
TZOFFSETTO:+0100
TZNAME:CET
DTSTART:20271031T010000
END:STANDARD
END:VTIMEZONE
BEGIN:VEVENT
DTSTART;TZID=Europe/Zurich:20260509T090000
DTEND;TZID=Europe/Zurich:20260509T120000
DTSTAMP:20260421T132754
CREATED:20260325T103821Z
LAST-MODIFIED:20260325T103924Z
UID:1042-1778317200-1778328000@lamaraitrie.fr
SUMMARY:Café réparation - vélo
DESCRIPTION:Yvon et Thierry vous accueillent pour procéder avec vous à un diagnostic de votre vélo et envisager/entamer les éventuelles réparations.
URL:https://lamaraitrie.fr/evenement/cafe-reparation-velo-3/
LOCATION:La Maraîtrie\, 29 Rue du Stade\, 79210 Saint-Hilaire-la-Palud
END:VEVENT
END:VCALENDAR