BEGIN:VCALENDAR
VERSION:2.0
PRODID:-//Une ressourcerie maraîchine - ECPv6.15.20//NONSGML v1.0//EN
CALSCALE:GREGORIAN
METHOD:PUBLISH
X-ORIGINAL-URL:https://lamaraitrie.fr
X-WR-CALDESC:Évènements pour Une ressourcerie maraîchine
REFRESH-INTERVAL;VALUE=DURATION:PT1H
X-Robots-Tag:noindex
X-PUBLISHED-TTL:PT1H
BEGIN:VTIMEZONE
TZID:Europe/Zurich
BEGIN:DAYLIGHT
TZOFFSETFROM:+0100
TZOFFSETTO:+0200
TZNAME:CEST
DTSTART:20240331T010000
END:DAYLIGHT
BEGIN:STANDARD
TZOFFSETFROM:+0200
TZOFFSETTO:+0100
TZNAME:CET
DTSTART:20241027T010000
END:STANDARD
BEGIN:DAYLIGHT
TZOFFSETFROM:+0100
TZOFFSETTO:+0200
TZNAME:CEST
DTSTART:20250330T010000
END:DAYLIGHT
BEGIN:STANDARD
TZOFFSETFROM:+0200
TZOFFSETTO:+0100
TZNAME:CET
DTSTART:20251026T010000
END:STANDARD
BEGIN:DAYLIGHT
TZOFFSETFROM:+0100
TZOFFSETTO:+0200
TZNAME:CEST
DTSTART:20260329T010000
END:DAYLIGHT
BEGIN:STANDARD
TZOFFSETFROM:+0200
TZOFFSETTO:+0100
TZNAME:CET
DTSTART:20261025T010000
END:STANDARD
BEGIN:DAYLIGHT
TZOFFSETFROM:+0100
TZOFFSETTO:+0200
TZNAME:CEST
DTSTART:20270328T010000
END:DAYLIGHT
BEGIN:STANDARD
TZOFFSETFROM:+0200
TZOFFSETTO:+0100
TZNAME:CET
DTSTART:20271031T010000
END:STANDARD
END:VTIMEZONE
BEGIN:VEVENT
DTSTART;TZID=Europe/Zurich:20260403T090000
DTEND;TZID=Europe/Zurich:20260403T120000
DTSTAMP:20260421T134015
CREATED:20260325T102255Z
LAST-MODIFIED:20260325T102836Z
UID:1025-1775206800-1775217600@lamaraitrie.fr
SUMMARY:Atelier créatif - couture
DESCRIPTION:Catherine vous propose une formule d’ateliers créatifs autour du textile : vous êtes les bienvenu-e-s pour confectionner des sacs\, des pochettes ou autre projet personnel.
URL:https://lamaraitrie.fr/evenement/atelier-creatif-couture-2/
LOCATION:La Maraîtrie\, 29 Rue du Stade\, 79210 Saint-Hilaire-la-Palud
END:VEVENT
BEGIN:VEVENT
DTSTART;TZID=Europe/Zurich:20260328T103000
DTEND;TZID=Europe/Zurich:20260328T120000
DTSTAMP:20260421T134015
CREATED:20260227T124625Z
LAST-MODIFIED:20260227T124811Z
UID:1011-1774693800-1774699200@lamaraitrie.fr
SUMMARY:Assemblée générale annuelle
DESCRIPTION:Bienvenu-e-s à l’Assemblée générale de La Maraîtrie 🙂
URL:https://lamaraitrie.fr/evenement/assemblee-generale-annuelle/
LOCATION:Salles des Halles\, Saint-Hilaire-la-Palud\, France
END:VEVENT
BEGIN:VEVENT
DTSTART;TZID=Europe/Zurich:20260306T090000
DTEND;TZID=Europe/Zurich:20260306T120000
DTSTAMP:20260421T134015
CREATED:20260128T115441Z
LAST-MODIFIED:20260325T102900Z
UID:1005-1772787600-1772798400@lamaraitrie.fr
SUMMARY:Atelier créatif - couture
DESCRIPTION:Catherine vous propose une formule d’ateliers créatifs autour du textile : vous êtes les bienvenu-e-s pour confectionner des sacs\, des pochettes ou autre projet personnel.
URL:https://lamaraitrie.fr/evenement/atelier-creatif-couture/
LOCATION:La Maraîtrie\, 29 Rue du Stade\, 79210 Saint-Hilaire-la-Palud
END:VEVENT
BEGIN:VEVENT
DTSTART;TZID=Europe/Zurich:20260206T090000
DTEND;TZID=Europe/Zurich:20260206T120000
DTSTAMP:20260421T134015
CREATED:20260128T115310Z
LAST-MODIFIED:20260325T102918Z
UID:1003-1770368400-1770379200@lamaraitrie.fr
SUMMARY:Atelier créatif - couture
DESCRIPTION:Catherine vous propose une formule d’ateliers créatifs autour du textile : vous êtes les bienvenu-e-s pour confectionner des sacs\, des pochettes ou autre projet personnel.
URL:https://lamaraitrie.fr/evenement/atelier-couture-creatif/
LOCATION:La Maraîtrie\, 29 Rue du Stade\, 79210 Saint-Hilaire-la-Palud
END:VEVENT
BEGIN:VEVENT
DTSTART;TZID=Europe/Zurich:20260109T090000
DTEND;TZID=Europe/Zurich:20260109T120000
DTSTAMP:20260421T134015
CREATED:20251023T122154Z
LAST-MODIFIED:20260325T102933Z
UID:924-1767949200-1767960000@lamaraitrie.fr
SUMMARY:Atelier créatif - couture
DESCRIPTION:Catherine vous propose une formule d’ateliers créatifs autour du textile : vous êtes les bienvenu-e-s pour confectionner des sacs\, des pochettes ou autre projet personnel.
URL:https://lamaraitrie.fr/evenement/atelier-creatif-3/
END:VEVENT
BEGIN:VEVENT
DTSTART;TZID=Europe/Zurich:20251224T080000
DTEND;TZID=Europe/Zurich:20260103T170000
DTSTAMP:20260421T134015
CREATED:20251211T133817Z
LAST-MODIFIED:20251211T133917Z
UID:964-1766563200-1767459600@lamaraitrie.fr
SUMMARY:Fermeture hivernale
DESCRIPTION:La Maraîtrie prend des vacances de fin d’année ! \nA très bientôt 🙂
URL:https://lamaraitrie.fr/evenement/fermeture-hivernale/
END:VEVENT
BEGIN:VEVENT
DTSTART;TZID=Europe/Zurich:20251213T140000
DTEND;TZID=Europe/Zurich:20251213T200000
DTSTAMP:20260421T134015
CREATED:20251119T092705Z
LAST-MODIFIED:20251119T092705Z
UID:936-1765634400-1765656000@lamaraitrie.fr
SUMMARY:Fête d'anniversaire de La Maraîtrie
DESCRIPTION:La Maraîtrie vous invite pour son anniversaire\, plus de détails dans les articles 🙂
URL:https://lamaraitrie.fr/evenement/fete-danniversaire-de-la-maraitrie/
END:VEVENT
BEGIN:VEVENT
DTSTART;TZID=Europe/Zurich:20251211T100000
DTEND;TZID=Europe/Zurich:20251211T120000
DTSTAMP:20260421T134015
CREATED:20251023T122610Z
LAST-MODIFIED:20260325T103026Z
UID:929-1765447200-1765454400@lamaraitrie.fr
SUMMARY:Café réparation - couture
DESCRIPTION:Delphine vous propose une formule « café réparation » spécial couture durant lequel elle vous aide à raccommoder\, réparer et retoucher les vêtements que vous avez dans votre armoire et auxquels vous voulez donner une seconde vie.
URL:https://lamaraitrie.fr/evenement/cafe-reparation-couture-2/
LOCATION:La Maraîtrie\, 29 Rue du Stade\, 79210 Saint-Hilaire-la-Palud
END:VEVENT
BEGIN:VEVENT
DTSTART;TZID=Europe/Zurich:20251205T090000
DTEND;TZID=Europe/Zurich:20251205T120000
DTSTAMP:20260421T134015
CREATED:20251023T122100Z
LAST-MODIFIED:20251023T122100Z
UID:922-1764925200-1764936000@lamaraitrie.fr
SUMMARY:Atelier créatif
DESCRIPTION:Catherine vous propose une formule d’ateliers créatifs autour du textile : vous êtes les bienvenu-e-s pour confectionner des sacs\, des pochettes ou autre projet personnel.
URL:https://lamaraitrie.fr/evenement/atelier-creatif-2/
LOCATION:La Maraîtrie\, 29 Rue du Stade\, 79210 Saint-Hilaire-la-Palud
END:VEVENT
BEGIN:VEVENT
DTSTART;TZID=Europe/Zurich:20251127T100000
DTEND;TZID=Europe/Zurich:20251127T120000
DTSTAMP:20260421T134015
CREATED:20251023T122417Z
LAST-MODIFIED:20260325T103000Z
UID:927-1764237600-1764244800@lamaraitrie.fr
SUMMARY:Café réparation - couture
DESCRIPTION:Delphine vous propose une formule « café réparation » spécial couture durant lequel elle vous aide à raccommoder\, réparer et retoucher les vêtements que vous avez dans votre armoire et auxquels vous voulez donner une seconde vie.
URL:https://lamaraitrie.fr/evenement/cafe-reparation-couture/
LOCATION:La Maraîtrie\, 29 Rue du Stade\, 79210 Saint-Hilaire-la-Palud
END:VEVENT
BEGIN:VEVENT
DTSTART;TZID=Europe/Zurich:20251107T090000
DTEND;TZID=Europe/Zurich:20251107T120000
DTSTAMP:20260421T134015
CREATED:20251023T122016Z
LAST-MODIFIED:20251023T122016Z
UID:920-1762506000-1762516800@lamaraitrie.fr
SUMMARY:Atelier créatif
DESCRIPTION:Catherine vous propose une formule d’ateliers créatifs autour du textile : vous êtes les bienvenu-e-s pour confectionner des sacs\, des pochettes ou autre projet personnel.
URL:https://lamaraitrie.fr/evenement/atelier-creatif/
LOCATION:La Maraîtrie\, 29 Rue du Stade\, 79210 Saint-Hilaire-la-Palud
END:VEVENT
BEGIN:VEVENT
DTSTART;TZID=Europe/Zurich:20251029T080000
DTEND;TZID=Europe/Zurich:20251101T170000
DTSTAMP:20260421T134015
CREATED:20251008T083514Z
LAST-MODIFIED:20251008T083514Z
UID:914-1761724800-1762016400@lamaraitrie.fr
SUMMARY:Fermeture automnale
DESCRIPTION:La Maraîtrie ferme durant la deuxième semaine de vacances. Plus d’informations dans les articles 🙂
URL:https://lamaraitrie.fr/evenement/fermeture-automnale/
END:VEVENT
BEGIN:VEVENT
DTSTART;TZID=Europe/Zurich:20251010T090000
DTEND;TZID=Europe/Zurich:20251010T120000
DTSTAMP:20260421T134015
CREATED:20251008T081019Z
LAST-MODIFIED:20251008T081019Z
UID:905-1760086800-1760097600@lamaraitrie.fr
SUMMARY:Atelier couture
DESCRIPTION:Atelier couture pour débutant-e-s et expérimenté-e-s. Plus d’informations dans les articles
URL:https://lamaraitrie.fr/evenement/atelier-couture-6/
LOCATION:La Maraîtrie\, 29 Rue du Stade\, 79210 Saint-Hilaire-la-Palud
END:VEVENT
BEGIN:VEVENT
DTSTART;TZID=Europe/Zurich:20250913T090000
DTEND;TZID=Europe/Zurich:20250913T120000
DTSTAMP:20260421T134015
CREATED:20250806T092922Z
LAST-MODIFIED:20250806T092922Z
UID:883-1757754000-1757764800@lamaraitrie.fr
SUMMARY:Atelier couture
DESCRIPTION:Atelier couture pour débutant-e-s et expérimenté-e-s. Plus d’informations dans les articles
URL:https://lamaraitrie.fr/evenement/atelier-couture-5/
LOCATION:La Maraîtrie\, 29 Rue du Stade\, 79210 Saint-Hilaire-la-Palud
END:VEVENT
BEGIN:VEVENT
DTSTART;TZID=Europe/Zurich:20250906T090000
DTEND;TZID=Europe/Zurich:20250906T120000
DTSTAMP:20260421T134015
CREATED:20250806T092846Z
LAST-MODIFIED:20250806T092846Z
UID:881-1757149200-1757160000@lamaraitrie.fr
SUMMARY:Atelier couture
DESCRIPTION:Atelier couture pour débutant-e-s et expérimenté-e-s. Plus d’informations dans les articles
URL:https://lamaraitrie.fr/evenement/atelier-couture-4/
LOCATION:La Maraîtrie\, 29 Rue du Stade\, 79210 Saint-Hilaire-la-Palud
END:VEVENT
BEGIN:VEVENT
DTSTART;TZID=Europe/Zurich:20250829T090000
DTEND;TZID=Europe/Zurich:20250829T120000
DTSTAMP:20260421T134015
CREATED:20250806T092754Z
LAST-MODIFIED:20250806T092754Z
UID:879-1756458000-1756468800@lamaraitrie.fr
SUMMARY:Atelier couture
DESCRIPTION:Atelier couture pour débutant-e-s et expérimenté-e-s. Plus d’informations dans les articles
URL:https://lamaraitrie.fr/evenement/atelier-couture-3/
LOCATION:La Maraîtrie\, 29 Rue du Stade\, 79210 Saint-Hilaire-la-Palud
END:VEVENT
BEGIN:VEVENT
DTSTART;TZID=Europe/Zurich:20250815T080000
DTEND;TZID=Europe/Zurich:20250823T170000
DTSTAMP:20260421T134015
CREATED:20250723T091450Z
LAST-MODIFIED:20250723T091623Z
UID:869-1755244800-1755968400@lamaraitrie.fr
SUMMARY:FERMETURE ESTIVALE
DESCRIPTION:La Maraîtrie prend congé du 15 au 23 août inclus. Si vous avez besoin de préparer la rentrée\, vous êtes bienvenu-e-s avant ou après cette semaine de fermeture car il y a déjà des articles scolaires en rayons.
URL:https://lamaraitrie.fr/evenement/fermeture-estivale/
END:VEVENT
BEGIN:VEVENT
DTSTART;TZID=Europe/Zurich:20250808T090000
DTEND;TZID=Europe/Zurich:20250808T120000
DTSTAMP:20260421T134015
CREATED:20250806T092627Z
LAST-MODIFIED:20250806T092627Z
UID:876-1754643600-1754654400@lamaraitrie.fr
SUMMARY:Atelier couture
DESCRIPTION:Atelier couture pour débutant-e-s et expérimenté-e-s. Plus d’informations dans les articles 🙂
URL:https://lamaraitrie.fr/evenement/atelier-couture-2/
LOCATION:La Maraîtrie\, 29 Rue du Stade\, 79210 Saint-Hilaire-la-Palud
END:VEVENT
BEGIN:VEVENT
DTSTART;TZID=Europe/Zurich:20250802T090000
DTEND;TZID=Europe/Zurich:20250802T120000
DTSTAMP:20260421T134015
CREATED:20250717T125015Z
LAST-MODIFIED:20250717T125122Z
UID:860-1754125200-1754136000@lamaraitrie.fr
SUMMARY:Café réparation - vélo
DESCRIPTION:La Maraîtrie organise son deuxième café réparation sur le thème du vélo. Plus d’informations dans les articles !
URL:https://lamaraitrie.fr/evenement/cafe-reparation-velo-2/
END:VEVENT
BEGIN:VEVENT
DTSTART;TZID=Europe/Zurich:20250725T100000
DTEND;TZID=Europe/Zurich:20250725T120000
DTSTAMP:20260421T134015
CREATED:20250717T125222Z
LAST-MODIFIED:20250717T125222Z
UID:865-1753437600-1753444800@lamaraitrie.fr
SUMMARY:Atelier couture
DESCRIPTION:La Maraîtrie lance son premier atelier couture. Plus d’informations dans les articles 🙂
URL:https://lamaraitrie.fr/evenement/atelier-couture/
END:VEVENT
BEGIN:VEVENT
DTSTART;TZID=Europe/Zurich:20250705T090000
DTEND;TZID=Europe/Zurich:20250705T120000
DTSTAMP:20260421T134015
CREATED:20250702T082920Z
LAST-MODIFIED:20250717T125102Z
UID:854-1751706000-1751716800@lamaraitrie.fr
SUMMARY:Café réparation - vélo
DESCRIPTION:La Maraîtrie lance son premier café réparation sur le thème du vélo. Plus d’informations dans les articles !
URL:https://lamaraitrie.fr/evenement/cafe-reparation-velo/
END:VEVENT
BEGIN:VEVENT
DTSTART;TZID=Europe/Zurich:20250606T180000
DTEND;TZID=Europe/Zurich:20250606T200000
DTSTAMP:20260421T134015
CREATED:20250702T082803Z
LAST-MODIFIED:20250702T082803Z
UID:852-1749232800-1749240000@lamaraitrie.fr
SUMMARY:Portes ouvertes
DESCRIPTION:La Maraîtrie fête ses huit mois d’ouverture et ouvre ses portes !
URL:https://lamaraitrie.fr/evenement/portes-ouvertes/
END:VEVENT
BEGIN:VEVENT
DTSTART;TZID=Europe/Zurich:20250524T090000
DTEND;TZID=Europe/Zurich:20250524T130000
DTSTAMP:20260421T134015
CREATED:20250423T083747Z
LAST-MODIFIED:20250423T084931Z
UID:793-1748077200-1748091600@lamaraitrie.fr
SUMMARY:Donnez-Prenez au TROC PLANTES
DESCRIPTION:Nous exposons les dons reçus la veille pour les proposer gratuitement durant l’événement.
URL:https://lamaraitrie.fr/evenement/donnez-prenez-au-troc-plantes/
LOCATION:Ateliers municipaux du Vanneau-Irleau\, Ateliers municipaux\, Vanneau-Irleau
END:VEVENT
BEGIN:VEVENT
DTSTART;TZID=Europe/Zurich:20250523T170000
DTEND;TZID=Europe/Zurich:20250523T193000
DTSTAMP:20260421T134015
CREATED:20250423T084839Z
LAST-MODIFIED:20250423T084839Z
UID:797-1748019600-1748028600@lamaraitrie.fr
SUMMARY:Donnez-Prenez au TROC PLANTES
DESCRIPTION:Nous recevons vos dons : \n\nArticles de culture\, de décoration\, de vaisselle\, de sport\, de loisir\, etc.\nPas de textile (vêtement\, linge de maison\, etc.)\, d’objet abîmé ou sale\, de gros meuble ou de gros électroménager.\n\nCe que vous apportez doit entrer dans le coffre d’une voiture moyenne.
URL:https://lamaraitrie.fr/evenement/donnez-prenez-au-troc-plantes-2/
LOCATION:Ateliers municipaux du Vanneau-Irleau\, Ateliers municipaux\, Vanneau-Irleau
END:VEVENT
BEGIN:VEVENT
DTSTART;TZID=Europe/Zurich:20250503T093000
DTEND;TZID=Europe/Zurich:20250503T133000
DTSTAMP:20260421T134015
CREATED:20250423T083538Z
LAST-MODIFIED:20250423T083538Z
UID:789-1746264600-1746279000@lamaraitrie.fr
SUMMARY:Stand de la Maraîtrie au T'AS PAS
DESCRIPTION:
URL:https://lamaraitrie.fr/evenement/stand-de-la-maraitrie-au-tas-pas/
LOCATION:Champ de foire\, Saint-Georges-de-Rex
END:VEVENT
END:VCALENDAR