BEGIN:VCALENDAR
VERSION:2.0
PRODID:-//Une ressourcerie maraîchine - ECPv6.15.20//NONSGML v1.0//EN
CALSCALE:GREGORIAN
METHOD:PUBLISH
X-ORIGINAL-URL:https://lamaraitrie.fr
X-WR-CALDESC:Évènements pour Une ressourcerie maraîchine
REFRESH-INTERVAL;VALUE=DURATION:PT1H
X-Robots-Tag:noindex
X-PUBLISHED-TTL:PT1H
BEGIN:VTIMEZONE
TZID:Europe/Zurich
BEGIN:DAYLIGHT
TZOFFSETFROM:+0100
TZOFFSETTO:+0200
TZNAME:CEST
DTSTART:20250330T010000
END:DAYLIGHT
BEGIN:STANDARD
TZOFFSETFROM:+0200
TZOFFSETTO:+0100
TZNAME:CET
DTSTART:20251026T010000
END:STANDARD
BEGIN:DAYLIGHT
TZOFFSETFROM:+0100
TZOFFSETTO:+0200
TZNAME:CEST
DTSTART:20260329T010000
END:DAYLIGHT
BEGIN:STANDARD
TZOFFSETFROM:+0200
TZOFFSETTO:+0100
TZNAME:CET
DTSTART:20261025T010000
END:STANDARD
BEGIN:DAYLIGHT
TZOFFSETFROM:+0100
TZOFFSETTO:+0200
TZNAME:CEST
DTSTART:20270328T010000
END:DAYLIGHT
BEGIN:STANDARD
TZOFFSETFROM:+0200
TZOFFSETTO:+0100
TZNAME:CET
DTSTART:20271031T010000
END:STANDARD
END:VTIMEZONE
BEGIN:VEVENT
DTSTART;TZID=Europe/Zurich:20260430T090000
DTEND;TZID=Europe/Zurich:20260430T120000
DTSTAMP:20260421T121101
CREATED:20260325T102400Z
LAST-MODIFIED:20260325T102646Z
UID:1028-1777539600-1777550400@lamaraitrie.fr
SUMMARY:Ateliers créatif - couture
DESCRIPTION:Catherine vous propose une formule d’ateliers créatifs autour du textile : vous êtes les bienvenu-e-s pour confectionner des sacs\, des pochettes ou autre projet personnel.
URL:https://lamaraitrie.fr/evenement/ateliers-creatif-couture/
LOCATION:La Maraîtrie\, 29 Rue du Stade\, 79210 Saint-Hilaire-la-Palud
END:VEVENT
BEGIN:VEVENT
DTSTART;TZID=Europe/Zurich:20260509T090000
DTEND;TZID=Europe/Zurich:20260509T120000
DTSTAMP:20260421T121101
CREATED:20260325T103821Z
LAST-MODIFIED:20260325T103924Z
UID:1042-1778317200-1778328000@lamaraitrie.fr
SUMMARY:Café réparation - vélo
DESCRIPTION:Yvon et Thierry vous accueillent pour procéder avec vous à un diagnostic de votre vélo et envisager/entamer les éventuelles réparations.
URL:https://lamaraitrie.fr/evenement/cafe-reparation-velo-3/
LOCATION:La Maraîtrie\, 29 Rue du Stade\, 79210 Saint-Hilaire-la-Palud
END:VEVENT
BEGIN:VEVENT
DTSTART;TZID=Europe/Zurich:20260605T090000
DTEND;TZID=Europe/Zurich:20260605T120000
DTSTAMP:20260421T121101
CREATED:20260325T102449Z
LAST-MODIFIED:20260325T102626Z
UID:1030-1780650000-1780660800@lamaraitrie.fr
SUMMARY:Atelier créatif - couture
DESCRIPTION:Catherine vous propose une formule d’ateliers créatifs autour du textile : vous êtes les bienvenu-e-s pour confectionner des sacs\, des pochettes ou autre projet personnel.
URL:https://lamaraitrie.fr/evenement/atelier-creatif-couture-3/
LOCATION:La Maraîtrie\, 29 Rue du Stade\, 79210 Saint-Hilaire-la-Palud
END:VEVENT
BEGIN:VEVENT
DTSTART;TZID=Europe/Zurich:20260613T090000
DTEND;TZID=Europe/Zurich:20260613T120000
DTSTAMP:20260421T121101
CREATED:20260325T103858Z
LAST-MODIFIED:20260325T103858Z
UID:1045-1781341200-1781352000@lamaraitrie.fr
SUMMARY:Café réparation - vélo
DESCRIPTION:Yvon et Thierry vous accueillent pour procéder avec vous à un diagnostic de votre vélo et envisager/entamer les éventuelles réparations.
URL:https://lamaraitrie.fr/evenement/cafe-reparation-velo-4/
LOCATION:La Maraîtrie\, 29 Rue du Stade\, 79210 Saint-Hilaire-la-Palud
END:VEVENT
END:VCALENDAR