BEGIN:VCALENDAR
VERSION:2.0
PRODID:-//Une ressourcerie maraîchine - ECPv6.15.20//NONSGML v1.0//EN
CALSCALE:GREGORIAN
METHOD:PUBLISH
X-WR-CALNAME:Une ressourcerie maraîchine
X-ORIGINAL-URL:https://lamaraitrie.fr
X-WR-CALDESC:Évènements pour Une ressourcerie maraîchine
REFRESH-INTERVAL;VALUE=DURATION:PT1H
X-Robots-Tag:noindex
X-PUBLISHED-TTL:PT1H
BEGIN:VTIMEZONE
TZID:Europe/Zurich
BEGIN:DAYLIGHT
TZOFFSETFROM:+0100
TZOFFSETTO:+0200
TZNAME:CEST
DTSTART:20240331T010000
END:DAYLIGHT
BEGIN:STANDARD
TZOFFSETFROM:+0200
TZOFFSETTO:+0100
TZNAME:CET
DTSTART:20241027T010000
END:STANDARD
BEGIN:DAYLIGHT
TZOFFSETFROM:+0100
TZOFFSETTO:+0200
TZNAME:CEST
DTSTART:20250330T010000
END:DAYLIGHT
BEGIN:STANDARD
TZOFFSETFROM:+0200
TZOFFSETTO:+0100
TZNAME:CET
DTSTART:20251026T010000
END:STANDARD
BEGIN:DAYLIGHT
TZOFFSETFROM:+0100
TZOFFSETTO:+0200
TZNAME:CEST
DTSTART:20260329T010000
END:DAYLIGHT
BEGIN:STANDARD
TZOFFSETFROM:+0200
TZOFFSETTO:+0100
TZNAME:CET
DTSTART:20261025T010000
END:STANDARD
BEGIN:DAYLIGHT
TZOFFSETFROM:+0100
TZOFFSETTO:+0200
TZNAME:CEST
DTSTART:20270328T010000
END:DAYLIGHT
BEGIN:STANDARD
TZOFFSETFROM:+0200
TZOFFSETTO:+0100
TZNAME:CET
DTSTART:20271031T010000
END:STANDARD
END:VTIMEZONE
BEGIN:VEVENT
DTSTART;TZID=Europe/Zurich:20251205T090000
DTEND;TZID=Europe/Zurich:20251205T120000
DTSTAMP:20260421T194350
CREATED:20251023T122100Z
LAST-MODIFIED:20251023T122100Z
UID:922-1764925200-1764936000@lamaraitrie.fr
SUMMARY:Atelier créatif
DESCRIPTION:Catherine vous propose une formule d’ateliers créatifs autour du textile : vous êtes les bienvenu-e-s pour confectionner des sacs\, des pochettes ou autre projet personnel.
URL:https://lamaraitrie.fr/evenement/atelier-creatif-2/
LOCATION:La Maraîtrie\, 29 Rue du Stade\, 79210 Saint-Hilaire-la-Palud
END:VEVENT
BEGIN:VEVENT
DTSTART;TZID=Europe/Zurich:20251211T100000
DTEND;TZID=Europe/Zurich:20251211T120000
DTSTAMP:20260421T194350
CREATED:20251023T122610Z
LAST-MODIFIED:20260325T103026Z
UID:929-1765447200-1765454400@lamaraitrie.fr
SUMMARY:Café réparation - couture
DESCRIPTION:Delphine vous propose une formule « café réparation » spécial couture durant lequel elle vous aide à raccommoder\, réparer et retoucher les vêtements que vous avez dans votre armoire et auxquels vous voulez donner une seconde vie.
URL:https://lamaraitrie.fr/evenement/cafe-reparation-couture-2/
LOCATION:La Maraîtrie\, 29 Rue du Stade\, 79210 Saint-Hilaire-la-Palud
END:VEVENT
BEGIN:VEVENT
DTSTART;TZID=Europe/Zurich:20251213T140000
DTEND;TZID=Europe/Zurich:20251213T200000
DTSTAMP:20260421T194350
CREATED:20251119T092705Z
LAST-MODIFIED:20251119T092705Z
UID:936-1765634400-1765656000@lamaraitrie.fr
SUMMARY:Fête d'anniversaire de La Maraîtrie
DESCRIPTION:La Maraîtrie vous invite pour son anniversaire\, plus de détails dans les articles 🙂
URL:https://lamaraitrie.fr/evenement/fete-danniversaire-de-la-maraitrie/
END:VEVENT
BEGIN:VEVENT
DTSTART;TZID=Europe/Zurich:20251224T080000
DTEND;TZID=Europe/Zurich:20260103T170000
DTSTAMP:20260421T194350
CREATED:20251211T133817Z
LAST-MODIFIED:20251211T133917Z
UID:964-1766563200-1767459600@lamaraitrie.fr
SUMMARY:Fermeture hivernale
DESCRIPTION:La Maraîtrie prend des vacances de fin d’année ! \nA très bientôt 🙂
URL:https://lamaraitrie.fr/evenement/fermeture-hivernale/
END:VEVENT
END:VCALENDAR